BEGIN:VCALENDAR
VERSION:2.0
PRODID:-//Belladonna&#039;s Books - ECPv6.15.20//NONSGML v1.0//EN
CALSCALE:GREGORIAN
METHOD:PUBLISH
X-WR-CALNAME:Belladonna&#039;s Books
X-ORIGINAL-URL:https://belladonnasbooks.com
X-WR-CALDESC:Events for Belladonna&#039;s Books
REFRESH-INTERVAL;VALUE=DURATION:PT1H
X-Robots-Tag:noindex
X-PUBLISHED-TTL:PT1H
BEGIN:VTIMEZONE
TZID:America/New_York
BEGIN:DAYLIGHT
TZOFFSETFROM:-0500
TZOFFSETTO:-0400
TZNAME:EDT
DTSTART:20190310T070000
END:DAYLIGHT
BEGIN:STANDARD
TZOFFSETFROM:-0400
TZOFFSETTO:-0500
TZNAME:EST
DTSTART:20191103T060000
END:STANDARD
BEGIN:DAYLIGHT
TZOFFSETFROM:-0500
TZOFFSETTO:-0400
TZNAME:EDT
DTSTART:20200308T070000
END:DAYLIGHT
BEGIN:STANDARD
TZOFFSETFROM:-0400
TZOFFSETTO:-0500
TZNAME:EST
DTSTART:20201101T060000
END:STANDARD
BEGIN:DAYLIGHT
TZOFFSETFROM:-0500
TZOFFSETTO:-0400
TZNAME:EDT
DTSTART:20210314T070000
END:DAYLIGHT
BEGIN:STANDARD
TZOFFSETFROM:-0400
TZOFFSETTO:-0500
TZNAME:EST
DTSTART:20211107T060000
END:STANDARD
END:VTIMEZONE
BEGIN:VTIMEZONE
TZID:UTC
BEGIN:STANDARD
TZOFFSETFROM:+0000
TZOFFSETTO:+0000
TZNAME:UTC
DTSTART:20190101T000000
END:STANDARD
END:VTIMEZONE
BEGIN:VEVENT
DTSTART;VALUE=DATE:20201011
DTEND;VALUE=DATE:20201012
DTSTAMP:20260423T173334
CREATED:20201002T202439Z
LAST-MODIFIED:20201003T201922Z
UID:3578-1602374400-1602460799@belladonnasbooks.com
SUMMARY:Blog Tour - A Golden Fury
DESCRIPTION:“A vivid ride through eighteenth century Europe with darkness and dread creeping at its corners. Utterly enchanting.” – Emily A. Duncan\, New York Times bestselling author of Wicked Saints\n\n“Cohoe transmutes the legend of the Philosopher’s Stone into a dark\, intoxicating tale of ambition\, obsession\, and sacrifice. Prepare for a magic that will consume you.” – Rosamund Hodge\, New York Times bestselling author of Cruel Beauty and Bright Smoke\, Cold Fire\n\nIn her debut novel A Golden Fury\, Samantha Cohoe weaves a story of magic and danger\, where the curse of the Philosopher’s Stone will haunt you long after the final page. \nThea Hope longs to be an alchemist out of the shadow of her famous mother. The two of them are close to creating the legendary Philosopher’s Stone—whose properties include immortality and can turn any metal into gold—but just when the promise of the Stone’s riches is in their grasp\, Thea’s mother destroys the Stone in a sudden fit of violent madness. \nWhile combing through her mother’s notes\, Thea learns that there’s a curse on the Stone that causes anyone who tries to make it to lose their sanity. With the threat of a revolution looming\, Thea is sent to live with the father who doesn’t know she exists. \nBut there are alchemists after the Stone who don’t believe Thea’s warning about the curse—instead\, they’ll stop at nothing to steal Thea’s knowledge of how to create the Stone. But Thea can only run for so long\, and soon she will have to choose: create the Stone and sacrifice her sanity\, or let the people she loves die. \n  \nAbout the Author: \nSamantha Cohoe writes historically-inspired young adult fantasy. She was raised in San Luis Obispo\, California\, where she enjoyed an idyllic childhood of beach trips\, omnivorous reading\, and writing stories brimming with adverbs. She currently lives in Denver with her family and divides her time among teaching Latin\, mothering\, writing\, reading\, and deleting adverbs. A Golden Fury is her debut novel. \n  \nSamantha’s Twitter: https://twitter.com/smcohoe \n  \nSamantha’s Instagram: https://www.instagram.com/samanthacohoe/ \n  \nWednesday Books Twitter: https://twitter.com/wednesdaybooks \n  \nWednesday Books Instagram: https://www.instagram.com/wednesdaybooks/ \nBuy link for A GOLDEN FURY: https://read.macmillan.com/lp/a-golden-fury/
URL:https://belladonnasbooks.com/event/blog-tour-a-golden-fury/
CATEGORIES:Blog Tours,Book Introduction
ATTACH;FMTTYPE=image/png:https://belladonnasbooks.com/wp-content/uploads/2020/10/A-Golden-Fury_Blog-Tour-Banner-1.png
END:VEVENT
BEGIN:VEVENT
DTSTART;VALUE=DATE:20200929
DTEND;VALUE=DATE:20200930
DTSTAMP:20260423T173334
CREATED:20200918T052246Z
LAST-MODIFIED:20200924T062331Z
UID:2412-1601337600-1601423999@belladonnasbooks.com
SUMMARY:Blog Tour: How to Stay Out of My Emergency Room by Dr. Mona Balogh
DESCRIPTION:After twenty-seven years treating patients in emergency rooms\, Dr. Mona Balogh noticed a trend: from heart failure to addiction\, people chronically use ERs to address disease. These “frequent flyers” are ER regulars with little understanding of their illness or how to help themselves. Dr. Balogh knew these patients deserved more from medicine—there had to be a better way. \nIn How to Stay Out of My Emergency Room\, Dr. Balogh combines Western and Eastern approaches to show us how to overcome harmful mindsets that prevent us from recovering. By applying the Eastern philosophy of opposing forces and dynamic tension with the time-tested methods of The 12 Steps and Vipassana\, she shows us how to incorporate meditation to choose a healthier lifestyle. If you or someone you know feels stuck in an unhealthy rut\, this book will help you find the right strategy to conquer a vicious cycle and discover your best self. \nAbout Mona Balogh\n\nMona Balogh is a retired emergency physician who received her medical degree at Southwestern Medical School. After she completed her residency in emergency medicine at Los Angeles County + University of Southern California Medical Center\, Dr. Balogh worked in emergency rooms throughout Los Angeles. She also provided free healthcare to underserved populations in Los Angeles\, and in Baja\, California\, with the Flying Samaritans. \nDr. Balogh discovered her passion for alternative medicine at an addiction medicine seminar\, where she learned to combine evidence-based Western philosophies with Eastern therapies. Since then\, Dr. Balogh has studied traditional Chinese medicine\, herbal and homeopathic therapies\, and acupuncture. She lives with her husband\, Endre\, in Chatsworth\, California.
URL:https://belladonnasbooks.com/event/blog-tour-how-to-stay-out-of-my-emergency-room-by-dr-mona-balogh/
CATEGORIES:Blog Tours
ATTACH;FMTTYPE=image/jpeg:https://belladonnasbooks.com/wp-content/uploads/2020/09/howtostayoutofmyemergencytoom-2.jpg
END:VEVENT
END:VCALENDAR